BEGIN:VCALENDAR
X-WR-CALNAME:MCPS Senior Hikers
NAME:MCPS Senior Hikers
VERSION:2.0
PRODID:ics.py - http://git.io/lLljaA
BEGIN:VEVENT
BEGIN:VALARM
ACTION:DISPLAY
DESCRIPTION:Hike: Level 2 @ Thompson Park
TRIGGER:-PT1H
END:VALARM
DTSTAMP:20260421T154333Z
DESCRIPTION:<span>&bull\; Team: Level 2 - Friday<br>&bull\; <a href="https://whereshouldibe.com/groups/mcps-senior-hikers/hike-locations/thompson-park">Directions Page</a><br>&bull\; <a href="https://goo.gl/maps/7QWQTM17Nb32">Google Map</a></span>
DTEND:20240105T163000Z
DTSTART:20240105T143000Z
SUMMARY:Hike: Level 2 @ Thompson Park
UID:6f9baf1f-ada0-5117-aad8-50545f5949a9
END:VEVENT
BEGIN:VEVENT
BEGIN:VALARM
ACTION:DISPLAY
DESCRIPTION:Hike: Level 2 @ Shark River Park
TRIGGER:-PT1H
END:VALARM
DTSTAMP:20260421T154333Z
DESCRIPTION:<span>&bull\; Team: Level 2 - Friday<br>&bull\; <a href="https://whereshouldibe.com/groups/mcps-senior-hikers/hike-locations/shark-river-park">Directions Page</a><br>&bull\; <a href="https://goo.gl/maps/d67hUURLEGu">Google Map</a></span>
DTEND:20240308T163000Z
DTSTART:20240308T143000Z
SUMMARY:Hike: Level 2 @ Shark River Park
UID:079a6303-859b-5b32-a200-a3fd3920f19d
END:VEVENT
BEGIN:VEVENT
BEGIN:VALARM
ACTION:DISPLAY
DESCRIPTION:Hike: Level 2 @ Sandy Hook
TRIGGER:-PT1H
END:VALARM
DTSTAMP:20260421T154333Z
DESCRIPTION:<span>&bull\; Team: Level 2 - Friday<br>&bull\; <a href="https://whereshouldibe.com/groups/mcps-senior-hikers/hike-locations/sandy-hook">Directions Page</a><br>&bull\; <a href="https://goo.gl/maps/VNsS8jQJMhE2">Google Map</a></span>
DTEND:20240322T153000Z
DTSTART:20240322T133000Z
SUMMARY:Hike: Level 2 @ Sandy Hook
UID:136b156e-5c7e-5a1e-a381-c7d5e7d7b372
END:VEVENT
BEGIN:VEVENT
BEGIN:VALARM
ACTION:DISPLAY
DESCRIPTION:Hike: Level 2 @ Monmouth Battlefield
TRIGGER:-PT1H
END:VALARM
DTSTAMP:20260421T154333Z
DESCRIPTION:<span>&bull\; Team: Level 2 - Friday<br>&bull\; <a href="https://whereshouldibe.com/groups/mcps-senior-hikers/hike-locations/monmouth-battlefield">Directions Page</a><br>&bull\; <a href="https://goo.gl/maps/KjqhsR2GBLp">Google Map</a></span>
DTEND:20240202T163000Z
DTSTART:20240202T143000Z
SUMMARY:Hike: Level 2 @ Monmouth Battlefield
UID:b4ab9449-d68c-5a3a-b2f7-b059a76dd5e3
END:VEVENT
BEGIN:VEVENT
BEGIN:VALARM
ACTION:DISPLAY
DESCRIPTION:Hike: Level 2 @ Holmdel Park
TRIGGER:-PT1H
END:VALARM
DTSTAMP:20260421T154333Z
DESCRIPTION:<span>&bull\; Team: Level 2 - Friday<br>&bull\; <a href="https://whereshouldibe.com/groups/mcps-senior-hikers/hike-locations/holmdel-park">Directions Page</a><br>&bull\; <a href="https://goo.gl/maps/KNLvJkdeKY6vgMy46">Google Map</a></span>
DTEND:20240126T163000Z
DTSTART:20240126T143000Z
SUMMARY:Hike: Level 2 @ Holmdel Park
UID:5034a70a-c103-5548-82c4-c69863f8f695
END:VEVENT
BEGIN:VEVENT
BEGIN:VALARM
ACTION:DISPLAY
DESCRIPTION:Hike: Level 2 @ Southern Allaire (Meet on Hospital Road)
TRIGGER:-PT1H
END:VALARM
DTSTAMP:20260421T154333Z
DESCRIPTION:<span>&bull\; Team: Level 2 - Friday<br>&bull\; <a href="https://whereshouldibe.com/groups/mcps-senior-hikers/hike-locations/southern-allaire">Directions Page</a><br>&bull\; <a href="https://goo.gl/maps/o4uvNh5sH632">Google Map</a></span>
DTEND:20240301T163000Z
DTSTART:20240301T143000Z
SUMMARY:Hike: Level 2 @ Southern Allaire (Meet on Hospital Road)
UID:384d813a-410d-510c-826c-a41bbb5041b3
END:VEVENT
BEGIN:VEVENT
BEGIN:VALARM
ACTION:DISPLAY
DESCRIPTION:Hike: Level 2 @ Spring Lake Boardwalk (Boardwalk and lake)
TRIGGER:-PT1H
END:VALARM
DTSTAMP:20260421T154333Z
DESCRIPTION:<span>&bull\; Team: Level 2 - Friday<br>&bull\; <a href="https://whereshouldibe.com/groups/mcps-senior-hikers/hike-locations/spring-lake">Directions Page</a><br>&bull\; <a href="https://goo.gl/maps/2cCZriAY6udKZYyq6">Google Map</a></span>
DTEND:20240315T153000Z
DTSTART:20240315T133000Z
SUMMARY:Hike: Level 2 @ Spring Lake Boardwalk (Boardwalk and lake)
UID:3327e385-b333-5a0c-ba56-a6db0650bea1
END:VEVENT
BEGIN:VEVENT
BEGIN:VALARM
ACTION:DISPLAY
DESCRIPTION:Hike: Level 2 @ Tatum Park (Holland Road entrance)
TRIGGER:-PT1H
END:VALARM
DTSTAMP:20260421T154333Z
DESCRIPTION:<span>&bull\; Team: Level 2 - Friday<br>&bull\; <a href="https://whereshouldibe.com/groups/mcps-senior-hikers/hike-locations/tatum-park">Directions Page</a><br>&bull\; <a href="https://goo.gl/maps/NkiXEXGrpBp">Google Map</a></span>
DTEND:20240223T163000Z
DTSTART:20240223T143000Z
SUMMARY:Hike: Level 2 @ Tatum Park (Holland Road entrance)
UID:98bcb8a3-0540-558e-9f1b-9159681ef725
END:VEVENT
BEGIN:VEVENT
BEGIN:VALARM
ACTION:DISPLAY
DESCRIPTION:Hike: Level 2 @ Allaire Park
TRIGGER:-PT1H
END:VALARM
DTSTAMP:20260421T154333Z
DESCRIPTION:<span>&bull\; Team: Level 2 - Friday<br>&bull\; <a href="https://whereshouldibe.com/groups/mcps-senior-hikers/hike-locations/allaire-park">Directions Page</a><br>&bull\; <a href="https://goo.gl/maps/7N8VCgq6y712">Google Map</a></span>
DTEND:20240112T163000Z
DTSTART:20240112T143000Z
SUMMARY:Hike: Level 2 @ Allaire Park
UID:4fbe86df-44b5-5c30-af91-87c20b1b8a68
END:VEVENT
BEGIN:VEVENT
BEGIN:VALARM
ACTION:DISPLAY
DESCRIPTION:Hike: Level 2 @ Ramanessin (Meet at Holmdel Park)
TRIGGER:-PT1H
END:VALARM
DTSTAMP:20260421T154333Z
DESCRIPTION:<span>&bull\; Team: Level 2 - Friday<br>&bull\; <a href="https://whereshouldibe.com/groups/mcps-senior-hikers/hike-locations/holmdel-park">Directions Page</a><br>&bull\; <a href="https://goo.gl/maps/KNLvJkdeKY6vgMy46">Google Map</a></span>
DTEND:20240209T163000Z
DTSTART:20240209T143000Z
SUMMARY:Hike: Level 2 @ Ramanessin (Meet at Holmdel Park)
UID:7e5908d1-ab1a-5e37-9bea-c5a40a95172a
END:VEVENT
BEGIN:VEVENT
BEGIN:VALARM
ACTION:DISPLAY
DESCRIPTION:Hike: Level 2 @ Huber Woods
TRIGGER:-PT1H
END:VALARM
DTSTAMP:20260421T154333Z
DESCRIPTION:<span>&bull\; Team: Level 2 - Friday<br>&bull\; <a href="https://whereshouldibe.com/groups/mcps-senior-hikers/hike-locations/huber-woods">Directions Page</a><br>&bull\; <a href="https://goo.gl/maps/i1M6tAYKJZx">Google Map</a></span>
DTEND:20240119T163000Z
DTSTART:20240119T143000Z
SUMMARY:Hike: Level 2 @ Huber Woods
UID:adf1fb5f-3483-57c5-9f1d-a4bfe32572fd
END:VEVENT
BEGIN:VEVENT
BEGIN:VALARM
ACTION:DISPLAY
DESCRIPTION:Hike: Level 2 @ Manasquan Reservoir
TRIGGER:-PT1H
END:VALARM
DTSTAMP:20260421T154333Z
DESCRIPTION:<span>&bull\; Team: Level 2 - Friday<br>&bull\; <a href="https://whereshouldibe.com/groups/mcps-senior-hikers/hike-locations/manasquan-reservoir">Directions Page</a><br>&bull\; <a href="https://goo.gl/maps/k5pa8FssEB2VdCnM6">Google Map</a></span>
DTEND:20240216T163000Z
DTSTART:20240216T143000Z
SUMMARY:Hike: Level 2 @ Manasquan Reservoir
UID:7764e469-b2f5-5b73-9a17-75d8d7d170f8
END:VEVENT
BEGIN:VEVENT
BEGIN:VALARM
ACTION:DISPLAY
DESCRIPTION:Hike: Level 2 @ Claypit Creek
TRIGGER:-PT1H
END:VALARM
DTSTAMP:20260421T154333Z
DESCRIPTION:<span>&bull\; Team: Level 2 - Friday<br>&bull\; <a href="https://whereshouldibe.com/groups/mcps-senior-hikers/hike-locations/claypit-creek">Directions Page</a><br>&bull\; <a href="https://goo.gl/maps/7ZL5EcLTpat">Google Map</a></span>
DTEND:20240329T153000Z
DTSTART:20240329T133000Z
SUMMARY:Hike: Level 2 @ Claypit Creek
UID:b8169cda-5240-5335-9108-f548e70f37a2
END:VEVENT
END:VCALENDAR