BEGIN:VCALENDAR
X-WR-CALNAME:MCPS Senior Hikers
NAME:MCPS Senior Hikers
VERSION:2.0
PRODID:ics.py - http://git.io/lLljaA
BEGIN:VEVENT
BEGIN:VALARM
ACTION:DISPLAY
DESCRIPTION:Hike: Level 2 @ Southern Allaire (Meet on Hospital Road)
TRIGGER:-PT1H
END:VALARM
DTSTAMP:20260421T154257Z
DESCRIPTION:<span>&bull\; Team: Level 2 - Thursday<br>&bull\; <a href="https://whereshouldibe.com/groups/mcps-senior-hikers/hike-locations/southern-allaire">Directions Page</a><br>&bull\; <a href="https://goo.gl/maps/o4uvNh5sH632">Google Map</a></span>
DTEND:20240321T153000Z
DTSTART:20240321T133000Z
SUMMARY:Hike: Level 2 @ Southern Allaire (Meet on Hospital Road)
UID:812e2880-f486-509e-b8c9-554c5810b138
END:VEVENT
BEGIN:VEVENT
BEGIN:VALARM
ACTION:DISPLAY
DESCRIPTION:Hike: Level 2 @ Rocky Point
TRIGGER:-PT1H
END:VALARM
DTSTAMP:20260421T154257Z
DESCRIPTION:<span>&bull\; Team: Level 2 - Thursday<br>&bull\; <a href="https://whereshouldibe.com/groups/mcps-senior-hikers/hike-locations/rocky-point">Directions Page</a><br>&bull\; <a href="https://goo.gl/maps/xXdaujU8VNx">Google Map</a></span>
DTEND:20240328T153000Z
DTSTART:20240328T133000Z
SUMMARY:Hike: Level 2 @ Rocky Point
UID:2a05fe7b-0eb2-5857-9562-819a30627eb1
END:VEVENT
BEGIN:VEVENT
BEGIN:VALARM
ACTION:DISPLAY
DESCRIPTION:Hike: Level 2 @ Shark River Park
TRIGGER:-PT1H
END:VALARM
DTSTAMP:20260421T154257Z
DESCRIPTION:<span>&bull\; Team: Level 2 - Thursday<br>&bull\; <a href="https://whereshouldibe.com/groups/mcps-senior-hikers/hike-locations/shark-river-park">Directions Page</a><br>&bull\; <a href="https://goo.gl/maps/d67hUURLEGu">Google Map</a></span>
DTEND:20240118T163000Z
DTSTART:20240118T143000Z
SUMMARY:Hike: Level 2 @ Shark River Park
UID:74940a15-fda0-5c74-b4a2-f91ea205409c
END:VEVENT
BEGIN:VEVENT
BEGIN:VALARM
ACTION:DISPLAY
DESCRIPTION:Hike: Level 2 @ Ramanessin (Meet at Holmdel Park)
TRIGGER:-PT1H
END:VALARM
DTSTAMP:20260421T154257Z
DESCRIPTION:<span>&bull\; Team: Level 2 - Thursday<br>&bull\; <a href="https://whereshouldibe.com/groups/mcps-senior-hikers/hike-locations/holmdel-park">Directions Page</a><br>&bull\; <a href="https://goo.gl/maps/KNLvJkdeKY6vgMy46">Google Map</a></span>
DTEND:20240222T163000Z
DTSTART:20240222T143000Z
SUMMARY:Hike: Level 2 @ Ramanessin (Meet at Holmdel Park)
UID:e48e5d70-e342-50bd-a57b-d7e42ad0ddb6
END:VEVENT
BEGIN:VEVENT
BEGIN:VALARM
ACTION:DISPLAY
DESCRIPTION:Hike: Level 2 @ Tatum Park (Holland Road entrance)
TRIGGER:-PT1H
END:VALARM
DTSTAMP:20260421T154257Z
DESCRIPTION:<span>&bull\; Team: Level 2 - Thursday<br>&bull\; <a href="https://whereshouldibe.com/groups/mcps-senior-hikers/hike-locations/tatum-park">Directions Page</a><br>&bull\; <a href="https://goo.gl/maps/NkiXEXGrpBp">Google Map</a></span>
DTEND:20240215T163000Z
DTSTART:20240215T143000Z
SUMMARY:Hike: Level 2 @ Tatum Park (Holland Road entrance)
UID:adaefc5c-95e4-53ec-a451-30bc502da823
END:VEVENT
BEGIN:VEVENT
BEGIN:VALARM
ACTION:DISPLAY
DESCRIPTION:Hike: Level 2 @ Holmdel Park
TRIGGER:-PT1H
END:VALARM
DTSTAMP:20260421T154257Z
DESCRIPTION:<span>&bull\; Team: Level 2 - Thursday<br>&bull\; <a href="https://whereshouldibe.com/groups/mcps-senior-hikers/hike-locations/holmdel-park">Directions Page</a><br>&bull\; <a href="https://goo.gl/maps/KNLvJkdeKY6vgMy46">Google Map</a></span>
DTEND:20240111T163000Z
DTSTART:20240111T143000Z
SUMMARY:Hike: Level 2 @ Holmdel Park
UID:b8a379a5-aad2-5053-a5c7-75358e8ecb00
END:VEVENT
BEGIN:VEVENT
BEGIN:VALARM
ACTION:DISPLAY
DESCRIPTION:Hike: Level 2 @ Monmouth Battlefield
TRIGGER:-PT1H
END:VALARM
DTSTAMP:20260421T154257Z
DESCRIPTION:<span>&bull\; Team: Level 2 - Thursday<br>&bull\; <a href="https://whereshouldibe.com/groups/mcps-senior-hikers/hike-locations/monmouth-battlefield">Directions Page</a><br>&bull\; <a href="https://goo.gl/maps/KjqhsR2GBLp">Google Map</a></span>
DTEND:20240307T163000Z
DTSTART:20240307T143000Z
SUMMARY:Hike: Level 2 @ Monmouth Battlefield
UID:814039eb-dd33-5a00-b688-89030cf4f1fa
END:VEVENT
BEGIN:VEVENT
BEGIN:VALARM
ACTION:DISPLAY
DESCRIPTION:Hike: Level 2 @ Clayton Park
TRIGGER:-PT1H
END:VALARM
DTSTAMP:20260421T154257Z
DESCRIPTION:<span>&bull\; Team: Level 2 - Thursday<br>&bull\; <a href="https://whereshouldibe.com/groups/mcps-senior-hikers/hike-locations/clayton-park">Directions Page</a><br>&bull\; <a href="https://goo.gl/maps/zqwYHki4JsD2">Google Map</a></span>
DTEND:20240314T153000Z
DTSTART:20240314T133000Z
SUMMARY:Hike: Level 2 @ Clayton Park
UID:02aec6e3-c193-5f1c-ba08-a647d6b30a15
END:VEVENT
BEGIN:VEVENT
BEGIN:VALARM
ACTION:DISPLAY
DESCRIPTION:Hike: Level 2 @ Allaire Park
TRIGGER:-PT1H
END:VALARM
DTSTAMP:20260421T154257Z
DESCRIPTION:<span>&bull\; Team: Level 2 - Thursday<br>&bull\; <a href="https://whereshouldibe.com/groups/mcps-senior-hikers/hike-locations/allaire-park">Directions Page</a><br>&bull\; <a href="https://goo.gl/maps/7N8VCgq6y712">Google Map</a></span>
DTEND:20240125T163000Z
DTSTART:20240125T143000Z
SUMMARY:Hike: Level 2 @ Allaire Park
UID:83c52d2e-21a3-5744-8773-dc7d4b29cf78
END:VEVENT
BEGIN:VEVENT
BEGIN:VALARM
ACTION:DISPLAY
DESCRIPTION:Hike: Level 2 @ Huber Woods
TRIGGER:-PT1H
END:VALARM
DTSTAMP:20260421T154257Z
DESCRIPTION:<span>&bull\; Team: Level 2 - Thursday<br>&bull\; <a href="https://whereshouldibe.com/groups/mcps-senior-hikers/hike-locations/huber-woods">Directions Page</a><br>&bull\; <a href="https://goo.gl/maps/i1M6tAYKJZx">Google Map</a></span>
DTEND:20240201T163000Z
DTSTART:20240201T143000Z
SUMMARY:Hike: Level 2 @ Huber Woods
UID:5a08262f-6371-5dd0-94e3-836552dde79f
END:VEVENT
BEGIN:VEVENT
BEGIN:VALARM
ACTION:DISPLAY
DESCRIPTION:Hike: Level 2 @ Sandy Hook
TRIGGER:-PT1H
END:VALARM
DTSTAMP:20260421T154257Z
DESCRIPTION:<span>&bull\; Team: Level 2 - Thursday<br>&bull\; <a href="https://whereshouldibe.com/groups/mcps-senior-hikers/hike-locations/sandy-hook">Directions Page</a><br>&bull\; <a href="https://goo.gl/maps/VNsS8jQJMhE2">Google Map</a></span>
DTEND:20240229T163000Z
DTSTART:20240229T143000Z
SUMMARY:Hike: Level 2 @ Sandy Hook
UID:9a43ba90-0d18-5fea-8cf0-9cf29332c049
END:VEVENT
BEGIN:VEVENT
BEGIN:VALARM
ACTION:DISPLAY
DESCRIPTION:Hike: Level 2 @ Manasquan Reservoir
TRIGGER:-PT1H
END:VALARM
DTSTAMP:20260421T154257Z
DESCRIPTION:<span>&bull\; Team: Level 2 - Thursday<br>&bull\; <a href="https://whereshouldibe.com/groups/mcps-senior-hikers/hike-locations/manasquan-reservoir">Directions Page</a><br>&bull\; <a href="https://goo.gl/maps/k5pa8FssEB2VdCnM6">Google Map</a></span>
DTEND:20240208T163000Z
DTSTART:20240208T143000Z
SUMMARY:Hike: Level 2 @ Manasquan Reservoir
UID:0e701bcd-3a05-58e2-abdf-01a79a2a82cc
END:VEVENT
BEGIN:VEVENT
BEGIN:VALARM
ACTION:DISPLAY
DESCRIPTION:Hike: Level 2 @ Thompson Park
TRIGGER:-PT1H
END:VALARM
DTSTAMP:20260421T154257Z
DESCRIPTION:<span>&bull\; Team: Level 2 - Thursday<br>&bull\; <a href="https://whereshouldibe.com/groups/mcps-senior-hikers/hike-locations/thompson-park">Directions Page</a><br>&bull\; <a href="https://goo.gl/maps/7QWQTM17Nb32">Google Map</a></span>
DTEND:20240104T163000Z
DTSTART:20240104T143000Z
SUMMARY:Hike: Level 2 @ Thompson Park
UID:df7b31d3-5c58-59a7-a715-3ed1275d182e
END:VEVENT
END:VCALENDAR