BEGIN:VCALENDAR
X-WR-CALNAME:MCPS Senior Hikers
NAME:MCPS Senior Hikers
VERSION:2.0
PRODID:ics.py - http://git.io/lLljaA
BEGIN:VEVENT
BEGIN:VALARM
ACTION:DISPLAY
DESCRIPTION:Hike: Level 4 @ Tatum Park (Holland Road entrance)
TRIGGER:-PT1H
END:VALARM
DTSTAMP:20260421T154343Z
DESCRIPTION:<span>&bull\; Team: Level 4 - Monday<br>&bull\; <a href="https://whereshouldibe.com/groups/mcps-senior-hikers/hike-locations/tatum-park">Directions Page</a><br>&bull\; <a href="https://goo.gl/maps/NkiXEXGrpBp">Google Map</a></span>
DTEND:20240318T153000Z
DTSTART:20240318T133000Z
SUMMARY:Hike: Level 4 @ Tatum Park (Holland Road entrance)
UID:a4c306bf-71b7-5e7c-a63c-e69990c60755
END:VEVENT
BEGIN:VEVENT
BEGIN:VALARM
ACTION:DISPLAY
DESCRIPTION:Hike: Level 4 @ Huber Woods
TRIGGER:-PT1H
END:VALARM
DTSTAMP:20260421T154343Z
DESCRIPTION:<span>&bull\; Team: Level 4 - Monday<br>&bull\; <a href="https://whereshouldibe.com/groups/mcps-senior-hikers/hike-locations/huber-woods">Directions Page</a><br>&bull\; <a href="https://goo.gl/maps/i1M6tAYKJZx">Google Map</a></span>
DTEND:20240325T153000Z
DTSTART:20240325T133000Z
SUMMARY:Hike: Level 4 @ Huber Woods
UID:1a72947e-c3eb-5cd2-9d95-69e0fa8fcffc
END:VEVENT
BEGIN:VEVENT
BEGIN:VALARM
ACTION:DISPLAY
DESCRIPTION:Hike: Level 4 @ Clayton Park
TRIGGER:-PT1H
END:VALARM
DTSTAMP:20260421T154343Z
DESCRIPTION:<span>&bull\; Team: Level 4 - Monday<br>&bull\; <a href="https://whereshouldibe.com/groups/mcps-senior-hikers/hike-locations/clayton-park">Directions Page</a><br>&bull\; <a href="https://goo.gl/maps/zqwYHki4JsD2">Google Map</a></span>
DTEND:20240122T163000Z
DTSTART:20240122T143000Z
SUMMARY:Hike: Level 4 @ Clayton Park
UID:66891b0e-207f-5d5e-bbd4-975028f6b4f9
END:VEVENT
BEGIN:VEVENT
BEGIN:VALARM
ACTION:DISPLAY
DESCRIPTION:Hike: Level 4 @ Manasquan Reservoir
TRIGGER:-PT1H
END:VALARM
DTSTAMP:20260421T154343Z
DESCRIPTION:<span>&bull\; Team: Level 4 - Monday<br>&bull\; <a href="https://whereshouldibe.com/groups/mcps-senior-hikers/hike-locations/manasquan-reservoir">Directions Page</a><br>&bull\; <a href="https://goo.gl/maps/k5pa8FssEB2VdCnM6">Google Map</a></span>
DTEND:20240108T163000Z
DTSTART:20240108T143000Z
SUMMARY:Hike: Level 4 @ Manasquan Reservoir
UID:0b6b773d-6b02-57a2-95bf-a8bed567e210
END:VEVENT
BEGIN:VEVENT
BEGIN:VALARM
ACTION:DISPLAY
DESCRIPTION:Hike: Level 4 @ Ramanessin (Meet at Holmdel Park)
TRIGGER:-PT1H
END:VALARM
DTSTAMP:20260421T154343Z
DESCRIPTION:<span>&bull\; Team: Level 4 - Monday<br>&bull\; <a href="https://whereshouldibe.com/groups/mcps-senior-hikers/hike-locations/holmdel-park">Directions Page</a><br>&bull\; <a href="https://goo.gl/maps/KNLvJkdeKY6vgMy46">Google Map</a></span>
DTEND:20240212T163000Z
DTSTART:20240212T143000Z
SUMMARY:Hike: Level 4 @ Ramanessin (Meet at Holmdel Park)
UID:c3b3c958-fe0e-5176-a892-dc61b1fc135e
END:VEVENT
BEGIN:VEVENT
BEGIN:VALARM
ACTION:DISPLAY
DESCRIPTION:Hike: Level 4 @ Southern Allaire (Meet on Hospital Road)
TRIGGER:-PT1H
END:VALARM
DTSTAMP:20260421T154343Z
DESCRIPTION:<span>&bull\; Team: Level 4 - Monday<br>&bull\; <a href="https://whereshouldibe.com/groups/mcps-senior-hikers/hike-locations/southern-allaire">Directions Page</a><br>&bull\; <a href="https://goo.gl/maps/o4uvNh5sH632">Google Map</a></span>
DTEND:20240311T153000Z
DTSTART:20240311T133000Z
SUMMARY:Hike: Level 4 @ Southern Allaire (Meet on Hospital Road)
UID:1b8541af-cd4f-500c-9e22-d3d32dc0182e
END:VEVENT
BEGIN:VEVENT
BEGIN:VALARM
ACTION:DISPLAY
DESCRIPTION:Hike: Level 4 @ Shark River Park
TRIGGER:-PT1H
END:VALARM
DTSTAMP:20260421T154343Z
DESCRIPTION:<span>&bull\; Team: Level 4 - Monday<br>&bull\; <a href="https://whereshouldibe.com/groups/mcps-senior-hikers/hike-locations/shark-river-park">Directions Page</a><br>&bull\; <a href="https://goo.gl/maps/d67hUURLEGu">Google Map</a></span>
DTEND:20240205T163000Z
DTSTART:20240205T143000Z
SUMMARY:Hike: Level 4 @ Shark River Park
UID:31669b1b-6b57-5e41-8e3e-079b76fe3023
END:VEVENT
BEGIN:VEVENT
BEGIN:VALARM
ACTION:DISPLAY
DESCRIPTION:Hike: Level 4 @ Rocky Point
TRIGGER:-PT1H
END:VALARM
DTSTAMP:20260421T154343Z
DESCRIPTION:<span>&bull\; Team: Level 4 - Monday<br>&bull\; <a href="https://whereshouldibe.com/groups/mcps-senior-hikers/hike-locations/rocky-point">Directions Page</a><br>&bull\; <a href="https://goo.gl/maps/xXdaujU8VNx">Google Map</a></span>
DTEND:20240129T163000Z
DTSTART:20240129T143000Z
SUMMARY:Hike: Level 4 @ Rocky Point
UID:062aa92e-8c92-5606-b04e-1e6cd7e66f73
END:VEVENT
BEGIN:VEVENT
BEGIN:VALARM
ACTION:DISPLAY
DESCRIPTION:Hike: Level 4 @ Claypit Creek
TRIGGER:-PT1H
END:VALARM
DTSTAMP:20260421T154343Z
DESCRIPTION:<span>&bull\; Team: Level 4 - Monday<br>&bull\; <a href="https://whereshouldibe.com/groups/mcps-senior-hikers/hike-locations/claypit-creek">Directions Page</a><br>&bull\; <a href="https://goo.gl/maps/7ZL5EcLTpat">Google Map</a></span>
DTEND:20240226T163000Z
DTSTART:20240226T143000Z
SUMMARY:Hike: Level 4 @ Claypit Creek
UID:76b34812-916d-5c0b-92e5-68c7e3910cca
END:VEVENT
BEGIN:VEVENT
BEGIN:VALARM
ACTION:DISPLAY
DESCRIPTION:Hike: Level 4 @ Clayton Park
TRIGGER:-PT1H
END:VALARM
DTSTAMP:20260421T154343Z
DESCRIPTION:<span>&bull\; Team: Level 4 - Monday<br>&bull\; <a href="https://whereshouldibe.com/groups/mcps-senior-hikers/hike-locations/clayton-park">Directions Page</a><br>&bull\; <a href="https://goo.gl/maps/zqwYHki4JsD2">Google Map</a></span>
DTEND:20240304T163000Z
DTSTART:20240304T143000Z
SUMMARY:Hike: Level 4 @ Clayton Park
UID:633fe642-2116-5395-9219-a211539f6065
END:VEVENT
END:VCALENDAR