BEGIN:VCALENDAR
X-WR-CALNAME:MCPS Senior Hikers
NAME:MCPS Senior Hikers
VERSION:2.0
PRODID:ics.py - http://git.io/lLljaA
BEGIN:VEVENT
BEGIN:VALARM
ACTION:DISPLAY
DESCRIPTION:Hike: Level 3 @ Huber Woods
TRIGGER:-PT1H
END:VALARM
DTSTAMP:20260421T154333Z
DESCRIPTION:<span>&bull\; Team: Level 3 - Tuesday<br>&bull\; <a href="https://whereshouldibe.com/groups/mcps-senior-hikers/hike-locations/huber-woods">Directions Page</a><br>&bull\; <a href="https://goo.gl/maps/i1M6tAYKJZx">Google Map</a></span>
DTEND:20240326T153000Z
DTSTART:20240326T133000Z
SUMMARY:Hike: Level 3 @ Huber Woods
UID:3f919564-5b87-5691-8fdd-1854017a1589
END:VEVENT
BEGIN:VEVENT
BEGIN:VALARM
ACTION:DISPLAY
DESCRIPTION:Hike: Level 3 @ Southern Allaire (Meet on Hospital Road)
TRIGGER:-PT1H
END:VALARM
DTSTAMP:20260421T154333Z
DESCRIPTION:<span>&bull\; Team: Level 3 - Tuesday<br>&bull\; <a href="https://whereshouldibe.com/groups/mcps-senior-hikers/hike-locations/southern-allaire">Directions Page</a><br>&bull\; <a href="https://goo.gl/maps/o4uvNh5sH632">Google Map</a></span>
DTEND:20240312T153000Z
DTSTART:20240312T133000Z
SUMMARY:Hike: Level 3 @ Southern Allaire (Meet on Hospital Road)
UID:fbec6e24-271a-58d9-a54b-8b0c4afcd1c2
END:VEVENT
BEGIN:VEVENT
BEGIN:VALARM
ACTION:DISPLAY
DESCRIPTION:Hike: Level 3 @ Clayton Park
TRIGGER:-PT1H
END:VALARM
DTSTAMP:20260421T154332Z
DESCRIPTION:<span>&bull\; Team: Level 3 - Tuesday<br>&bull\; <a href="https://whereshouldibe.com/groups/mcps-senior-hikers/hike-locations/clayton-park">Directions Page</a><br>&bull\; <a href="https://goo.gl/maps/zqwYHki4JsD2">Google Map</a></span>
DTEND:20240123T163000Z
DTSTART:20240123T143000Z
SUMMARY:Hike: Level 3 @ Clayton Park
UID:e3383faf-6cee-59f0-add1-f083d9bdab68
END:VEVENT
BEGIN:VEVENT
BEGIN:VALARM
ACTION:DISPLAY
DESCRIPTION:Hike: Level 3 @ Ramanessin (Meet at Holmdel Park)
TRIGGER:-PT1H
END:VALARM
DTSTAMP:20260421T154332Z
DESCRIPTION:<span>&bull\; Team: Level 3 - Tuesday<br>&bull\; <a href="https://whereshouldibe.com/groups/mcps-senior-hikers/hike-locations/holmdel-park">Directions Page</a><br>&bull\; <a href="https://goo.gl/maps/KNLvJkdeKY6vgMy46">Google Map</a></span>
DTEND:20240213T163000Z
DTSTART:20240213T143000Z
SUMMARY:Hike: Level 3 @ Ramanessin (Meet at Holmdel Park)
UID:1e1f28dc-6ada-5640-92a7-3da33c671eb6
END:VEVENT
BEGIN:VEVENT
BEGIN:VALARM
ACTION:DISPLAY
DESCRIPTION:Hike: Level 3 @ Rocky Point
TRIGGER:-PT1H
END:VALARM
DTSTAMP:20260421T154332Z
DESCRIPTION:<span>&bull\; Team: Level 3 - Tuesday<br>&bull\; <a href="https://whereshouldibe.com/groups/mcps-senior-hikers/hike-locations/rocky-point">Directions Page</a><br>&bull\; <a href="https://goo.gl/maps/xXdaujU8VNx">Google Map</a></span>
DTEND:20240130T163000Z
DTSTART:20240130T143000Z
SUMMARY:Hike: Level 3 @ Rocky Point
UID:60089c0b-2ba7-5c74-9dc1-ebe0157523d3
END:VEVENT
BEGIN:VEVENT
BEGIN:VALARM
ACTION:DISPLAY
DESCRIPTION:Hike: Level 3 @ Holmdel Park
TRIGGER:-PT1H
END:VALARM
DTSTAMP:20260421T154332Z
DESCRIPTION:<span>&bull\; Team: Level 3 - Tuesday<br>&bull\; <a href="https://whereshouldibe.com/groups/mcps-senior-hikers/hike-locations/holmdel-park">Directions Page</a><br>&bull\; <a href="https://goo.gl/maps/KNLvJkdeKY6vgMy46">Google Map</a></span>
DTEND:20240102T163000Z
DTSTART:20240102T143000Z
SUMMARY:Hike: Level 3 @ Holmdel Park
UID:268ee819-c950-58ee-91fe-2e35595cc402
END:VEVENT
BEGIN:VEVENT
BEGIN:VALARM
ACTION:DISPLAY
DESCRIPTION:Hike: Level 3 @ Shark River Park
TRIGGER:-PT1H
END:VALARM
DTSTAMP:20260421T154332Z
DESCRIPTION:<span>&bull\; Team: Level 3 - Tuesday<br>&bull\; <a href="https://whereshouldibe.com/groups/mcps-senior-hikers/hike-locations/shark-river-park">Directions Page</a><br>&bull\; <a href="https://goo.gl/maps/d67hUURLEGu">Google Map</a></span>
DTEND:20240206T163000Z
DTSTART:20240206T143000Z
SUMMARY:Hike: Level 3 @ Shark River Park
UID:59c50693-d811-580d-8bf8-cf733cf17749
END:VEVENT
BEGIN:VEVENT
BEGIN:VALARM
ACTION:DISPLAY
DESCRIPTION:Hike: Level 3 @ Manasquan Reservoir
TRIGGER:-PT1H
END:VALARM
DTSTAMP:20260421T154332Z
DESCRIPTION:<span>&bull\; Team: Level 3 - Tuesday<br>&bull\; <a href="https://whereshouldibe.com/groups/mcps-senior-hikers/hike-locations/manasquan-reservoir">Directions Page</a><br>&bull\; <a href="https://goo.gl/maps/k5pa8FssEB2VdCnM6">Google Map</a></span>
DTEND:20240109T163000Z
DTSTART:20240109T143000Z
SUMMARY:Hike: Level 3 @ Manasquan Reservoir
UID:6ab9a108-d3bd-5cbd-ab6c-1377795e5b80
END:VEVENT
BEGIN:VEVENT
BEGIN:VALARM
ACTION:DISPLAY
DESCRIPTION:Hike: Level 3 @ Clayton Park
TRIGGER:-PT1H
END:VALARM
DTSTAMP:20260421T154333Z
DESCRIPTION:<span>&bull\; Team: Level 3 - Tuesday<br>&bull\; <a href="https://whereshouldibe.com/groups/mcps-senior-hikers/hike-locations/clayton-park">Directions Page</a><br>&bull\; <a href="https://goo.gl/maps/zqwYHki4JsD2">Google Map</a></span>
DTEND:20240305T163000Z
DTSTART:20240305T143000Z
SUMMARY:Hike: Level 3 @ Clayton Park
UID:457c7d85-db99-53b1-873b-e88c00efc725
END:VEVENT
BEGIN:VEVENT
BEGIN:VALARM
ACTION:DISPLAY
DESCRIPTION:Hike: Level 3 @ Tatum Park (Holland Road entrance)
TRIGGER:-PT1H
END:VALARM
DTSTAMP:20260421T154333Z
DESCRIPTION:<span>&bull\; Team: Level 3 - Tuesday<br>&bull\; <a href="https://whereshouldibe.com/groups/mcps-senior-hikers/hike-locations/tatum-park">Directions Page</a><br>&bull\; <a href="https://goo.gl/maps/NkiXEXGrpBp">Google Map</a></span>
DTEND:20240319T153000Z
DTSTART:20240319T133000Z
SUMMARY:Hike: Level 3 @ Tatum Park (Holland Road entrance)
UID:8712ab30-dba3-5178-9df1-756ed5af451a
END:VEVENT
BEGIN:VEVENT
BEGIN:VALARM
ACTION:DISPLAY
DESCRIPTION:Hike: Level 3 @ Claypit Creek
TRIGGER:-PT1H
END:VALARM
DTSTAMP:20260421T154332Z
DESCRIPTION:<span>&bull\; Team: Level 3 - Tuesday<br>&bull\; <a href="https://whereshouldibe.com/groups/mcps-senior-hikers/hike-locations/claypit-creek">Directions Page</a><br>&bull\; <a href="https://goo.gl/maps/7ZL5EcLTpat">Google Map</a></span>
DTEND:20240227T163000Z
DTSTART:20240227T143000Z
SUMMARY:Hike: Level 3 @ Claypit Creek
UID:27f1de21-2706-5d9b-8441-ed3036ccda39
END:VEVENT
BEGIN:VEVENT
BEGIN:VALARM
ACTION:DISPLAY
DESCRIPTION:Hike: Level 3 @ Thompson Park
TRIGGER:-PT1H
END:VALARM
DTSTAMP:20260421T154332Z
DESCRIPTION:<span>&bull\; Team: Level 3 - Tuesday<br>&bull\; <a href="https://whereshouldibe.com/groups/mcps-senior-hikers/hike-locations/thompson-park">Directions Page</a><br>&bull\; <a href="https://goo.gl/maps/7QWQTM17Nb32">Google Map</a></span>
DTEND:20240220T163000Z
DTSTART:20240220T143000Z
SUMMARY:Hike: Level 3 @ Thompson Park
UID:8ac35ba5-02b1-58b5-a1cb-1876d0ba53d8
END:VEVENT
BEGIN:VEVENT
BEGIN:VALARM
ACTION:DISPLAY
DESCRIPTION:Hike: Level 3 @ Thompson Park
TRIGGER:-PT1H
END:VALARM
DTSTAMP:20260421T154332Z
DESCRIPTION:<span>&bull\; Team: Level 3 - Tuesday<br>&bull\; <a href="https://whereshouldibe.com/groups/mcps-senior-hikers/hike-locations/thompson-park">Directions Page</a><br>&bull\; <a href="https://goo.gl/maps/7QWQTM17Nb32">Google Map</a></span>
DTEND:20240116T163000Z
DTSTART:20240116T143000Z
SUMMARY:Hike: Level 3 @ Thompson Park
UID:4f711806-4faf-50ca-81d8-01e4f874e175
END:VEVENT
END:VCALENDAR