BEGIN:VCALENDAR
X-WR-CALNAME:MCPS Senior Hikers
NAME:MCPS Senior Hikers
VERSION:2.0
PRODID:ics.py - http://git.io/lLljaA
BEGIN:VEVENT
BEGIN:VALARM
ACTION:DISPLAY
DESCRIPTION:Hike: Level 2 @ Manasquan Reservoir
TRIGGER:-PT1H
END:VALARM
DTSTAMP:20260421T154257Z
DESCRIPTION:<span>&bull\; Team: Level 2 - Wednesday<br>&bull\; <a href="https://whereshouldibe.com/groups/mcps-senior-hikers/hike-locations/manasquan-reservoir">Directions Page</a><br>&bull\; <a href="https://goo.gl/maps/k5pa8FssEB2VdCnM6">Google Map</a></span>
DTEND:20240214T163000Z
DTSTART:20240214T143000Z
SUMMARY:Hike: Level 2 @ Manasquan Reservoir
UID:6063d7d0-7783-5afe-b0bb-e9c6a8d6d99b
END:VEVENT
BEGIN:VEVENT
BEGIN:VALARM
ACTION:DISPLAY
DESCRIPTION:Hike: Level 2 @ Huber Woods
TRIGGER:-PT1H
END:VALARM
DTSTAMP:20260421T154257Z
DESCRIPTION:<span>&bull\; Team: Level 2 - Wednesday<br>&bull\; <a href="https://whereshouldibe.com/groups/mcps-senior-hikers/hike-locations/huber-woods">Directions Page</a><br>&bull\; <a href="https://goo.gl/maps/i1M6tAYKJZx">Google Map</a></span>
DTEND:20240117T163000Z
DTSTART:20240117T143000Z
SUMMARY:Hike: Level 2 @ Huber Woods
UID:f8d5b248-4763-504c-8212-a53ac1c44598
END:VEVENT
BEGIN:VEVENT
BEGIN:VALARM
ACTION:DISPLAY
DESCRIPTION:Hike: Level 2 @ Ramanessin (Meet at Holmdel Park)
TRIGGER:-PT1H
END:VALARM
DTSTAMP:20260421T154257Z
DESCRIPTION:<span>&bull\; Team: Level 2 - Wednesday<br>&bull\; <a href="https://whereshouldibe.com/groups/mcps-senior-hikers/hike-locations/holmdel-park">Directions Page</a><br>&bull\; <a href="https://goo.gl/maps/KNLvJkdeKY6vgMy46">Google Map</a></span>
DTEND:20240207T163000Z
DTSTART:20240207T143000Z
SUMMARY:Hike: Level 2 @ Ramanessin (Meet at Holmdel Park)
UID:05057576-040e-568d-9076-cec15437811b
END:VEVENT
BEGIN:VEVENT
BEGIN:VALARM
ACTION:DISPLAY
DESCRIPTION:Hike: Level 2 @ Allaire Park
TRIGGER:-PT1H
END:VALARM
DTSTAMP:20260421T154257Z
DESCRIPTION:<span>&bull\; Team: Level 2 - Wednesday<br>&bull\; <a href="https://whereshouldibe.com/groups/mcps-senior-hikers/hike-locations/allaire-park">Directions Page</a><br>&bull\; <a href="https://goo.gl/maps/7N8VCgq6y712">Google Map</a></span>
DTEND:20240110T163000Z
DTSTART:20240110T143000Z
SUMMARY:Hike: Level 2 @ Allaire Park
UID:3802bb2d-f90f-5476-a9d6-0aaf129a6bc6
END:VEVENT
BEGIN:VEVENT
BEGIN:VALARM
ACTION:DISPLAY
DESCRIPTION:Hike: Level 2 @ Tatum Park (Holland Road entrance)
TRIGGER:-PT1H
END:VALARM
DTSTAMP:20260421T154257Z
DESCRIPTION:<span>&bull\; Team: Level 2 - Wednesday<br>&bull\; <a href="https://whereshouldibe.com/groups/mcps-senior-hikers/hike-locations/tatum-park">Directions Page</a><br>&bull\; <a href="https://goo.gl/maps/NkiXEXGrpBp">Google Map</a></span>
DTEND:20240221T163000Z
DTSTART:20240221T143000Z
SUMMARY:Hike: Level 2 @ Tatum Park (Holland Road entrance)
UID:01f42da8-9cb9-5072-b81b-523a5336e74e
END:VEVENT
BEGIN:VEVENT
BEGIN:VALARM
ACTION:DISPLAY
DESCRIPTION:Hike: Level 2 @ Clayton Park
TRIGGER:-PT1H
END:VALARM
DTSTAMP:20260421T154257Z
DESCRIPTION:<span>&bull\; Team: Level 2 - Wednesday<br>&bull\; <a href="https://whereshouldibe.com/groups/mcps-senior-hikers/hike-locations/clayton-park">Directions Page</a><br>&bull\; <a href="https://goo.gl/maps/zqwYHki4JsD2">Google Map</a></span>
DTEND:20240313T153000Z
DTSTART:20240313T133000Z
SUMMARY:Hike: Level 2 @ Clayton Park
UID:ca782fd2-eec3-512e-89ed-9312f5ba1465
END:VEVENT
BEGIN:VEVENT
BEGIN:VALARM
ACTION:DISPLAY
DESCRIPTION:Hike: Level 2 @ Sandy Hook
TRIGGER:-PT1H
END:VALARM
DTSTAMP:20260421T154257Z
DESCRIPTION:<span>&bull\; Team: Level 2 - Wednesday<br>&bull\; <a href="https://whereshouldibe.com/groups/mcps-senior-hikers/hike-locations/sandy-hook">Directions Page</a><br>&bull\; <a href="https://goo.gl/maps/VNsS8jQJMhE2">Google Map</a></span>
DTEND:20240320T153000Z
DTSTART:20240320T133000Z
SUMMARY:Hike: Level 2 @ Sandy Hook
UID:4bb98b16-167d-5221-b8e6-d2910715689a
END:VEVENT
BEGIN:VEVENT
BEGIN:VALARM
ACTION:DISPLAY
DESCRIPTION:Hike: Level 2 @ Claypit Creek
TRIGGER:-PT1H
END:VALARM
DTSTAMP:20260421T154257Z
DESCRIPTION:<span>&bull\; Team: Level 2 - Wednesday<br>&bull\; <a href="https://whereshouldibe.com/groups/mcps-senior-hikers/hike-locations/claypit-creek">Directions Page</a><br>&bull\; <a href="https://goo.gl/maps/7ZL5EcLTpat">Google Map</a></span>
DTEND:20240327T153000Z
DTSTART:20240327T133000Z
SUMMARY:Hike: Level 2 @ Claypit Creek
UID:a8825619-da4c-556e-a11f-2fec8f5429e9
END:VEVENT
BEGIN:VEVENT
BEGIN:VALARM
ACTION:DISPLAY
DESCRIPTION:Hike: Level 2 @ Southern Allaire (Meet on Hospital Road)
TRIGGER:-PT1H
END:VALARM
DTSTAMP:20260421T154257Z
DESCRIPTION:<span>&bull\; Team: Level 2 - Wednesday<br>&bull\; <a href="https://whereshouldibe.com/groups/mcps-senior-hikers/hike-locations/southern-allaire">Directions Page</a><br>&bull\; <a href="https://goo.gl/maps/o4uvNh5sH632">Google Map</a></span>
DTEND:20240228T163000Z
DTSTART:20240228T143000Z
SUMMARY:Hike: Level 2 @ Southern Allaire (Meet on Hospital Road)
UID:fd08e216-87bd-56f1-9408-7262c132c50e
END:VEVENT
BEGIN:VEVENT
BEGIN:VALARM
ACTION:DISPLAY
DESCRIPTION:Hike: Level 2 @ Thompson Park
TRIGGER:-PT1H
END:VALARM
DTSTAMP:20260421T154257Z
DESCRIPTION:<span>&bull\; Team: Level 2 - Wednesday<br>&bull\; <a href="https://whereshouldibe.com/groups/mcps-senior-hikers/hike-locations/thompson-park">Directions Page</a><br>&bull\; <a href="https://goo.gl/maps/7QWQTM17Nb32">Google Map</a></span>
DTEND:20240103T163000Z
DTSTART:20240103T143000Z
SUMMARY:Hike: Level 2 @ Thompson Park
UID:bf6e25a1-49fb-5cf9-9eac-e314f3b94fb0
END:VEVENT
BEGIN:VEVENT
BEGIN:VALARM
ACTION:DISPLAY
DESCRIPTION:Hike: Level 2 @ Holmdel Park
TRIGGER:-PT1H
END:VALARM
DTSTAMP:20260421T154257Z
DESCRIPTION:<span>&bull\; Team: Level 2 - Wednesday<br>&bull\; <a href="https://whereshouldibe.com/groups/mcps-senior-hikers/hike-locations/holmdel-park">Directions Page</a><br>&bull\; <a href="https://goo.gl/maps/KNLvJkdeKY6vgMy46">Google Map</a></span>
DTEND:20240124T163000Z
DTSTART:20240124T143000Z
SUMMARY:Hike: Level 2 @ Holmdel Park
UID:9e30e3cc-70ea-517b-9608-37958712bdbb
END:VEVENT
BEGIN:VEVENT
BEGIN:VALARM
ACTION:DISPLAY
DESCRIPTION:Hike: Level 2 @ Shark River Park
TRIGGER:-PT1H
END:VALARM
DTSTAMP:20260421T154257Z
DESCRIPTION:<span>&bull\; Team: Level 2 - Wednesday<br>&bull\; <a href="https://whereshouldibe.com/groups/mcps-senior-hikers/hike-locations/shark-river-park">Directions Page</a><br>&bull\; <a href="https://goo.gl/maps/d67hUURLEGu">Google Map</a></span>
DTEND:20240306T163000Z
DTSTART:20240306T143000Z
SUMMARY:Hike: Level 2 @ Shark River Park
UID:691c4dcc-606a-5c92-8904-a991743cae3b
END:VEVENT
BEGIN:VEVENT
BEGIN:VALARM
ACTION:DISPLAY
DESCRIPTION:Hike: Level 2 @ Huber Woods
TRIGGER:-PT1H
END:VALARM
DTSTAMP:20260421T154257Z
DESCRIPTION:<span>&bull\; Team: Level 2 - Wednesday<br>&bull\; <a href="https://whereshouldibe.com/groups/mcps-senior-hikers/hike-locations/huber-woods">Directions Page</a><br>&bull\; <a href="https://goo.gl/maps/i1M6tAYKJZx">Google Map</a></span>
DTEND:20240131T163000Z
DTSTART:20240131T143000Z
SUMMARY:Hike: Level 2 @ Huber Woods
UID:dfc5ba62-09ec-5530-9072-c8f7ee755368
END:VEVENT
END:VCALENDAR