BEGIN:VCALENDAR
X-WR-CALNAME:MCPS Senior Hikers
NAME:MCPS Senior Hikers
VERSION:2.0
PRODID:ics.py - http://git.io/lLljaA
BEGIN:VEVENT
BEGIN:VALARM
ACTION:DISPLAY
DESCRIPTION:Hike: Level 1 @ Huber Woods
TRIGGER:-PT1H
END:VALARM
DTSTAMP:20260421T154409Z
DESCRIPTION:<span>&bull\; Team: Level 1 - Thursday<br>&bull\; <a href="https://whereshouldibe.com/groups/mcps-senior-hikers/hike-locations/huber-woods">Directions Page</a><br>&bull\; <a href="https://goo.gl/maps/i1M6tAYKJZx">Google Map</a></span>
DTEND:20240314T150000Z
DTSTART:20240314T133000Z
SUMMARY:Hike: Level 1 @ Huber Woods
UID:7744563b-8d97-530e-90e4-961183d24cd1
END:VEVENT
BEGIN:VEVENT
BEGIN:VALARM
ACTION:DISPLAY
DESCRIPTION:Hike: Level 1 @ Spring Lake Boardwalk (Boardwalk and lake)
TRIGGER:-PT1H
END:VALARM
DTSTAMP:20260421T154409Z
DESCRIPTION:<span>&bull\; Team: Level 1 - Thursday<br>&bull\; <a href="https://whereshouldibe.com/groups/mcps-senior-hikers/hike-locations/spring-lake">Directions Page</a><br>&bull\; <a href="https://goo.gl/maps/2cCZriAY6udKZYyq6">Google Map</a></span>
DTEND:20240328T150000Z
DTSTART:20240328T133000Z
SUMMARY:Hike: Level 1 @ Spring Lake Boardwalk (Boardwalk and lake)
UID:16821ed6-b490-56e4-9b45-ebc623db81d3
END:VEVENT
BEGIN:VEVENT
BEGIN:VALARM
ACTION:DISPLAY
DESCRIPTION:Hike: Level 1 @ Holmdel Park
TRIGGER:-PT1H
END:VALARM
DTSTAMP:20260421T154409Z
DESCRIPTION:<span>&bull\; Team: Level 1 - Thursday<br>&bull\; <a href="https://whereshouldibe.com/groups/mcps-senior-hikers/hike-locations/holmdel-park">Directions Page</a><br>&bull\; <a href="https://goo.gl/maps/KNLvJkdeKY6vgMy46">Google Map</a></span>
DTEND:20240201T160000Z
DTSTART:20240201T143000Z
SUMMARY:Hike: Level 1 @ Holmdel Park
UID:97897a91-f8a9-5974-8f06-c3e182860e8f
END:VEVENT
BEGIN:VEVENT
BEGIN:VALARM
ACTION:DISPLAY
DESCRIPTION:Hike: Level 1 @ Henry Hudson Trail
TRIGGER:-PT1H
END:VALARM
DTSTAMP:20260421T154409Z
DESCRIPTION:<span>&bull\; Team: Level 1 - Thursday<br>&bull\; <a href="https://whereshouldibe.com/groups/mcps-senior-hikers/hike-locations/henry-hudson-trail">Directions Page</a><br>&bull\; <a href="https://goo.gl/maps/ZVYcX99wHx52">Google Map</a></span>
DTEND:20240321T150000Z
DTSTART:20240321T133000Z
SUMMARY:Hike: Level 1 @ Henry Hudson Trail
UID:13d5a542-d73f-5cf4-aef3-26ed081222fb
END:VEVENT
BEGIN:VEVENT
BEGIN:VALARM
ACTION:DISPLAY
DESCRIPTION:Hike: Level 1 @ Allaire Park
TRIGGER:-PT1H
END:VALARM
DTSTAMP:20260421T154409Z
DESCRIPTION:<span>&bull\; Team: Level 1 - Thursday<br>&bull\; <a href="https://whereshouldibe.com/groups/mcps-senior-hikers/hike-locations/allaire-park">Directions Page</a><br>&bull\; <a href="https://goo.gl/maps/7N8VCgq6y712">Google Map</a></span>
DTEND:20240111T160000Z
DTSTART:20240111T143000Z
SUMMARY:Hike: Level 1 @ Allaire Park
UID:de202d7a-e9a1-5b69-ab48-d0bad5600e00
END:VEVENT
BEGIN:VEVENT
BEGIN:VALARM
ACTION:DISPLAY
DESCRIPTION:Hike: Level 1 @ Dorbrook Park
TRIGGER:-PT1H
END:VALARM
DTSTAMP:20260421T154409Z
DESCRIPTION:<span>&bull\; Team: Level 1 - Thursday<br>&bull\; <a href="https://whereshouldibe.com/groups/mcps-senior-hikers/hike-locations/dorbrook-park">Directions Page</a><br>&bull\; <a href="https://goo.gl/maps/giN7esdZkC22">Google Map</a></span>
DTEND:20240104T160000Z
DTSTART:20240104T143000Z
SUMMARY:Hike: Level 1 @ Dorbrook Park
UID:fc7f8c24-c2ea-562f-af87-c5b31bbc4197
END:VEVENT
BEGIN:VEVENT
BEGIN:VALARM
ACTION:DISPLAY
DESCRIPTION:Hike: Level 1 @ Ramanessin (Meet at Holmdel Park)
TRIGGER:-PT1H
END:VALARM
DTSTAMP:20260421T154409Z
DESCRIPTION:<span>&bull\; Team: Level 1 - Thursday<br>&bull\; <a href="https://whereshouldibe.com/groups/mcps-senior-hikers/hike-locations/holmdel-park">Directions Page</a><br>&bull\; <a href="https://goo.gl/maps/KNLvJkdeKY6vgMy46">Google Map</a></span>
DTEND:20240215T160000Z
DTSTART:20240215T143000Z
SUMMARY:Hike: Level 1 @ Ramanessin (Meet at Holmdel Park)
UID:6ced7e33-cdd4-5c77-a053-64fb53bc5475
END:VEVENT
BEGIN:VEVENT
BEGIN:VALARM
ACTION:DISPLAY
DESCRIPTION:Hike: Level 1 @ Manasquan Reservoir
TRIGGER:-PT1H
END:VALARM
DTSTAMP:20260421T154409Z
DESCRIPTION:<span>&bull\; Team: Level 1 - Thursday<br>&bull\; <a href="https://whereshouldibe.com/groups/mcps-senior-hikers/hike-locations/manasquan-reservoir">Directions Page</a><br>&bull\; <a href="https://goo.gl/maps/k5pa8FssEB2VdCnM6">Google Map</a></span>
DTEND:20240125T160000Z
DTSTART:20240125T143000Z
SUMMARY:Hike: Level 1 @ Manasquan Reservoir
UID:eb69fad1-af12-5962-a757-109afb94227d
END:VEVENT
BEGIN:VEVENT
BEGIN:VALARM
ACTION:DISPLAY
DESCRIPTION:Hike: Level 1 @ Thompson Park
TRIGGER:-PT1H
END:VALARM
DTSTAMP:20260421T154409Z
DESCRIPTION:<span>&bull\; Team: Level 1 - Thursday<br>&bull\; <a href="https://whereshouldibe.com/groups/mcps-senior-hikers/hike-locations/thompson-park">Directions Page</a><br>&bull\; <a href="https://goo.gl/maps/7QWQTM17Nb32">Google Map</a></span>
DTEND:20240118T160000Z
DTSTART:20240118T143000Z
SUMMARY:Hike: Level 1 @ Thompson Park
UID:68e3a94f-16e9-5c86-8132-72eb4a1069c1
END:VEVENT
BEGIN:VEVENT
BEGIN:VALARM
ACTION:DISPLAY
DESCRIPTION:Hike: Level 1 @ Shark River Park
TRIGGER:-PT1H
END:VALARM
DTSTAMP:20260421T154409Z
DESCRIPTION:<span>&bull\; Team: Level 1 - Thursday<br>&bull\; <a href="https://whereshouldibe.com/groups/mcps-senior-hikers/hike-locations/shark-river-park">Directions Page</a><br>&bull\; <a href="https://goo.gl/maps/d67hUURLEGu">Google Map</a></span>
DTEND:20240222T160000Z
DTSTART:20240222T143000Z
SUMMARY:Hike: Level 1 @ Shark River Park
UID:e5393368-fc52-580f-a5d7-cb9b3dcea017
END:VEVENT
BEGIN:VEVENT
BEGIN:VALARM
ACTION:DISPLAY
DESCRIPTION:Hike: Level 1 @ Perrineville Lake Park
TRIGGER:-PT1H
END:VALARM
DTSTAMP:20260421T154409Z
DESCRIPTION:<span>&bull\; Team: Level 1 - Thursday<br>&bull\; <a href="https://whereshouldibe.com/groups/mcps-senior-hikers/hike-locations/perrineville-lake-park">Directions Page</a><br>&bull\; <a href="https://goo.gl/maps/YkwMcnNorqo">Google Map</a></span>
DTEND:20240208T160000Z
DTSTART:20240208T143000Z
SUMMARY:Hike: Level 1 @ Perrineville Lake Park
UID:8e6b94eb-fee2-556f-bd14-7fb480a0e178
END:VEVENT
BEGIN:VEVENT
BEGIN:VALARM
ACTION:DISPLAY
DESCRIPTION:Hike: Level 1 @ Tatum Park (Holland Road entrance)
TRIGGER:-PT1H
END:VALARM
DTSTAMP:20260421T154409Z
DESCRIPTION:<span>&bull\; Team: Level 1 - Thursday<br>&bull\; <a href="https://whereshouldibe.com/groups/mcps-senior-hikers/hike-locations/tatum-park">Directions Page</a><br>&bull\; <a href="https://goo.gl/maps/NkiXEXGrpBp">Google Map</a></span>
DTEND:20240229T160000Z
DTSTART:20240229T143000Z
SUMMARY:Hike: Level 1 @ Tatum Park (Holland Road entrance)
UID:e81f2f10-7aff-5ff7-bcdc-0c4f9f490659
END:VEVENT
BEGIN:VEVENT
BEGIN:VALARM
ACTION:DISPLAY
DESCRIPTION:Hike: Level 1 @ Turkey Swamp Park
TRIGGER:-PT1H
END:VALARM
DTSTAMP:20260421T154409Z
DESCRIPTION:<span>&bull\; Team: Level 1 - Thursday<br>&bull\; <a href="https://whereshouldibe.com/groups/mcps-senior-hikers/hike-locations/turkey-swamp-park">Directions Page</a><br>&bull\; <a href="https://goo.gl/maps/gnaNCgfLGeR2">Google Map</a></span>
DTEND:20240307T160000Z
DTSTART:20240307T143000Z
SUMMARY:Hike: Level 1 @ Turkey Swamp Park
UID:71db5668-a39d-5f33-ba15-db8f528170d5
END:VEVENT
END:VCALENDAR