BEGIN:VCALENDAR
X-WR-CALNAME:MCPS Senior Hikers
NAME:MCPS Senior Hikers
VERSION:2.0
PRODID:ics.py - http://git.io/lLljaA
BEGIN:VEVENT
BEGIN:VALARM
ACTION:DISPLAY
DESCRIPTION:Hike: Level 1 @ Allaire Park
TRIGGER:-PT1H
END:VALARM
DTSTAMP:20260421T154342Z
DESCRIPTION:<span>&bull\; Team: Level 1 - Tuesday<br>&bull\; <a href="https://whereshouldibe.com/groups/mcps-senior-hikers/hike-locations/allaire-park">Directions Page</a><br>&bull\; <a href="https://goo.gl/maps/7N8VCgq6y712">Google Map</a></span>
DTEND:20240116T160000Z
DTSTART:20240116T143000Z
SUMMARY:Hike: Level 1 @ Allaire Park
UID:d69ebc13-ebd1-5aa4-a697-58605c58383d
END:VEVENT
BEGIN:VEVENT
BEGIN:VALARM
ACTION:DISPLAY
DESCRIPTION:Hike: Level 1 @ Thompson Park
TRIGGER:-PT1H
END:VALARM
DTSTAMP:20260421T154342Z
DESCRIPTION:<span>&bull\; Team: Level 1 - Tuesday<br>&bull\; <a href="https://whereshouldibe.com/groups/mcps-senior-hikers/hike-locations/thompson-park">Directions Page</a><br>&bull\; <a href="https://goo.gl/maps/7QWQTM17Nb32">Google Map</a></span>
DTEND:20240123T160000Z
DTSTART:20240123T143000Z
SUMMARY:Hike: Level 1 @ Thompson Park
UID:a89243d6-0138-583c-bec3-07d73bfb5584
END:VEVENT
BEGIN:VEVENT
BEGIN:VALARM
ACTION:DISPLAY
DESCRIPTION:Hike: Level 1 @ Spring Lake Boardwalk (Boardwalk and lake)
TRIGGER:-PT1H
END:VALARM
DTSTAMP:20260421T154343Z
DESCRIPTION:<span>&bull\; Team: Level 1 - Tuesday<br>&bull\; <a href="https://whereshouldibe.com/groups/mcps-senior-hikers/hike-locations/spring-lake">Directions Page</a><br>&bull\; <a href="https://goo.gl/maps/2cCZriAY6udKZYyq6">Google Map</a></span>
DTEND:20240326T150000Z
DTSTART:20240326T133000Z
SUMMARY:Hike: Level 1 @ Spring Lake Boardwalk (Boardwalk and lake)
UID:65a64ddc-2dc6-585e-9ca4-a752045bf75e
END:VEVENT
BEGIN:VEVENT
BEGIN:VALARM
ACTION:DISPLAY
DESCRIPTION:Hike: Level 1 @ Henry Hudson Trail
TRIGGER:-PT1H
END:VALARM
DTSTAMP:20260421T154342Z
DESCRIPTION:<span>&bull\; Team: Level 1 - Tuesday<br>&bull\; <a href="https://whereshouldibe.com/groups/mcps-senior-hikers/hike-locations/henry-hudson-trail">Directions Page</a><br>&bull\; <a href="https://goo.gl/maps/ZVYcX99wHx52">Google Map</a></span>
DTEND:20240109T160000Z
DTSTART:20240109T143000Z
SUMMARY:Hike: Level 1 @ Henry Hudson Trail
UID:9363810f-b131-5737-b63c-b14e58d6db67
END:VEVENT
BEGIN:VEVENT
BEGIN:VALARM
ACTION:DISPLAY
DESCRIPTION:Hike: Level 1 @ Turkey Swamp Park
TRIGGER:-PT1H
END:VALARM
DTSTAMP:20260421T154343Z
DESCRIPTION:<span>&bull\; Team: Level 1 - Tuesday<br>&bull\; <a href="https://whereshouldibe.com/groups/mcps-senior-hikers/hike-locations/turkey-swamp-park">Directions Page</a><br>&bull\; <a href="https://goo.gl/maps/gnaNCgfLGeR2">Google Map</a></span>
DTEND:20240312T150000Z
DTSTART:20240312T133000Z
SUMMARY:Hike: Level 1 @ Turkey Swamp Park
UID:902e6dcd-307e-56b0-895d-a7e7a1b43a1a
END:VEVENT
BEGIN:VEVENT
BEGIN:VALARM
ACTION:DISPLAY
DESCRIPTION:Hike: Level 1 @ Holmdel Park
TRIGGER:-PT1H
END:VALARM
DTSTAMP:20260421T154343Z
DESCRIPTION:<span>&bull\; Team: Level 1 - Tuesday<br>&bull\; <a href="https://whereshouldibe.com/groups/mcps-senior-hikers/hike-locations/holmdel-park">Directions Page</a><br>&bull\; <a href="https://goo.gl/maps/KNLvJkdeKY6vgMy46">Google Map</a></span>
DTEND:20240206T160000Z
DTSTART:20240206T143000Z
SUMMARY:Hike: Level 1 @ Holmdel Park
UID:f0c637ef-05ff-51f6-8b03-6cb43360628c
END:VEVENT
BEGIN:VEVENT
BEGIN:VALARM
ACTION:DISPLAY
DESCRIPTION:Hike: Level 1 @ Tatum Park (Holland Road entrance)
TRIGGER:-PT1H
END:VALARM
DTSTAMP:20260421T154343Z
DESCRIPTION:<span>&bull\; Team: Level 1 - Tuesday<br>&bull\; <a href="https://whereshouldibe.com/groups/mcps-senior-hikers/hike-locations/tatum-park">Directions Page</a><br>&bull\; <a href="https://goo.gl/maps/NkiXEXGrpBp">Google Map</a></span>
DTEND:20240305T160000Z
DTSTART:20240305T143000Z
SUMMARY:Hike: Level 1 @ Tatum Park (Holland Road entrance)
UID:e267c2ff-2f12-52e2-a5d8-13dc3142f2c5
END:VEVENT
BEGIN:VEVENT
BEGIN:VALARM
ACTION:DISPLAY
DESCRIPTION:Hike: Level 1 @ Manasquan Reservoir
TRIGGER:-PT1H
END:VALARM
DTSTAMP:20260421T154342Z
DESCRIPTION:<span>&bull\; Team: Level 1 - Tuesday<br>&bull\; <a href="https://whereshouldibe.com/groups/mcps-senior-hikers/hike-locations/manasquan-reservoir">Directions Page</a><br>&bull\; <a href="https://goo.gl/maps/k5pa8FssEB2VdCnM6">Google Map</a></span>
DTEND:20240130T160000Z
DTSTART:20240130T143000Z
SUMMARY:Hike: Level 1 @ Manasquan Reservoir
UID:82dbd89c-0810-5830-9274-a33e01b56707
END:VEVENT
BEGIN:VEVENT
BEGIN:VALARM
ACTION:DISPLAY
DESCRIPTION:Hike: Level 1 @ Dorbrook Park
TRIGGER:-PT1H
END:VALARM
DTSTAMP:20260421T154342Z
DESCRIPTION:<span>&bull\; Team: Level 1 - Tuesday<br>&bull\; <a href="https://whereshouldibe.com/groups/mcps-senior-hikers/hike-locations/dorbrook-park">Directions Page</a><br>&bull\; <a href="https://goo.gl/maps/giN7esdZkC22">Google Map</a></span>
DTEND:20240102T160000Z
DTSTART:20240102T143000Z
SUMMARY:Hike: Level 1 @ Dorbrook Park
UID:7afe8010-20ec-534f-ad61-871f2be2d6ab
END:VEVENT
BEGIN:VEVENT
BEGIN:VALARM
ACTION:DISPLAY
DESCRIPTION:Hike: Level 1 @ Perrineville Lake Park
TRIGGER:-PT1H
END:VALARM
DTSTAMP:20260421T154343Z
DESCRIPTION:<span>&bull\; Team: Level 1 - Tuesday<br>&bull\; <a href="https://whereshouldibe.com/groups/mcps-senior-hikers/hike-locations/perrineville-lake-park">Directions Page</a><br>&bull\; <a href="https://goo.gl/maps/YkwMcnNorqo">Google Map</a></span>
DTEND:20240213T160000Z
DTSTART:20240213T143000Z
SUMMARY:Hike: Level 1 @ Perrineville Lake Park
UID:595f2c40-6651-5b4e-ad67-70976a49b1b3
END:VEVENT
BEGIN:VEVENT
BEGIN:VALARM
ACTION:DISPLAY
DESCRIPTION:Hike: Level 1 @ Shark River Park
TRIGGER:-PT1H
END:VALARM
DTSTAMP:20260421T154343Z
DESCRIPTION:<span>&bull\; Team: Level 1 - Tuesday<br>&bull\; <a href="https://whereshouldibe.com/groups/mcps-senior-hikers/hike-locations/shark-river-park">Directions Page</a><br>&bull\; <a href="https://goo.gl/maps/d67hUURLEGu">Google Map</a></span>
DTEND:20240227T160000Z
DTSTART:20240227T143000Z
SUMMARY:Hike: Level 1 @ Shark River Park
UID:a0090f51-e2a5-577a-a5c4-f296331f0eb8
END:VEVENT
BEGIN:VEVENT
BEGIN:VALARM
ACTION:DISPLAY
DESCRIPTION:Hike: Level 1 @ Huber Woods
TRIGGER:-PT1H
END:VALARM
DTSTAMP:20260421T154343Z
DESCRIPTION:<span>&bull\; Team: Level 1 - Tuesday<br>&bull\; <a href="https://whereshouldibe.com/groups/mcps-senior-hikers/hike-locations/huber-woods">Directions Page</a><br>&bull\; <a href="https://goo.gl/maps/i1M6tAYKJZx">Google Map</a></span>
DTEND:20240319T150000Z
DTSTART:20240319T133000Z
SUMMARY:Hike: Level 1 @ Huber Woods
UID:ad6c26b0-95cc-50d5-961c-1d32a80d7be4
END:VEVENT
BEGIN:VEVENT
BEGIN:VALARM
ACTION:DISPLAY
DESCRIPTION:Hike: Level 1 @ Ramanessin (Meet at Holmdel Park)
TRIGGER:-PT1H
END:VALARM
DTSTAMP:20260421T154343Z
DESCRIPTION:<span>&bull\; Team: Level 1 - Tuesday<br>&bull\; <a href="https://whereshouldibe.com/groups/mcps-senior-hikers/hike-locations/holmdel-park">Directions Page</a><br>&bull\; <a href="https://goo.gl/maps/KNLvJkdeKY6vgMy46">Google Map</a></span>
DTEND:20240220T160000Z
DTSTART:20240220T143000Z
SUMMARY:Hike: Level 1 @ Ramanessin (Meet at Holmdel Park)
UID:27fb131f-a910-5abe-a705-c4ec44b88f34
END:VEVENT
END:VCALENDAR